BEGIN:VCALENDAR
VERSION:2.0
PRODID:-//The Enchanted Forest &amp; Music Hall - ECPv6.15.20//NONSGML v1.0//EN
CALSCALE:GREGORIAN
METHOD:PUBLISH
X-WR-CALNAME:The Enchanted Forest &amp; Music Hall
X-ORIGINAL-URL:https://theenchantedforest.live
X-WR-CALDESC:Events for The Enchanted Forest &amp; Music Hall
REFRESH-INTERVAL;VALUE=DURATION:PT1H
X-Robots-Tag:noindex
X-PUBLISHED-TTL:PT1H
BEGIN:VTIMEZONE
TZID:America/Kentucky/Louisville
BEGIN:DAYLIGHT
TZOFFSETFROM:-0500
TZOFFSETTO:-0400
TZNAME:EDT
DTSTART:20280312T070000
END:DAYLIGHT
BEGIN:STANDARD
TZOFFSETFROM:-0400
TZOFFSETTO:-0500
TZNAME:EST
DTSTART:20281105T060000
END:STANDARD
BEGIN:DAYLIGHT
TZOFFSETFROM:-0500
TZOFFSETTO:-0400
TZNAME:EDT
DTSTART:20290311T070000
END:DAYLIGHT
BEGIN:STANDARD
TZOFFSETFROM:-0400
TZOFFSETTO:-0500
TZNAME:EST
DTSTART:20291104T060000
END:STANDARD
BEGIN:DAYLIGHT
TZOFFSETFROM:-0500
TZOFFSETTO:-0400
TZNAME:EDT
DTSTART:20300310T070000
END:DAYLIGHT
BEGIN:STANDARD
TZOFFSETFROM:-0400
TZOFFSETTO:-0500
TZNAME:EST
DTSTART:20301103T060000
END:STANDARD
END:VTIMEZONE
BEGIN:VEVENT
DTSTART;TZID=America/Kentucky/Louisville:20290103T190000
DTEND;TZID=America/Kentucky/Louisville:20290103T214500
DTSTAMP:20260423T044918
CREATED:20240625T003205Z
LAST-MODIFIED:20240625T003205Z
UID:10000861-1862161200-1862171100@theenchantedforest.live
SUMMARY:Music Industry Night - Open Jam
DESCRIPTION:Join us every Wednesday for the areas best open mic/open jam where musicians around the area meet up for jam together and make new friends and even form new bands.  We provide a complete backline drum kit\, bass amps and guitar amps.  Sign up happens around 6:30.  Performer take the stage from 7pm till 9:45pm.
URL:https://theenchantedforest.live/events/music-industry-night-open-jam/2029-01-03/
LOCATION:The Enchanted Forest & Music Hall\, 45 W. 1st Street\, New Albany\, IN\, 47150\, United States
CATEGORIES:OPEN MIC
ATTACH;FMTTYPE=image/jpeg:https://theenchantedforest.live/wp-content/uploads/2024/06/Screenshot-2024-06-24-at-8.26.23 PM.jpeg
ORGANIZER;CN="The Enchanted Forest & Music Hall":MAILTO:booking@theeenchantedforest.live
END:VEVENT
BEGIN:VEVENT
DTSTART;TZID=America/Kentucky/Louisville:20290110T190000
DTEND;TZID=America/Kentucky/Louisville:20290110T214500
DTSTAMP:20260423T044918
CREATED:20240625T003205Z
LAST-MODIFIED:20240625T003205Z
UID:10000862-1862766000-1862775900@theenchantedforest.live
SUMMARY:Music Industry Night - Open Jam
DESCRIPTION:Join us every Wednesday for the areas best open mic/open jam where musicians around the area meet up for jam together and make new friends and even form new bands.  We provide a complete backline drum kit\, bass amps and guitar amps.  Sign up happens around 6:30.  Performer take the stage from 7pm till 9:45pm.
URL:https://theenchantedforest.live/events/music-industry-night-open-jam/2029-01-10/
LOCATION:The Enchanted Forest & Music Hall\, 45 W. 1st Street\, New Albany\, IN\, 47150\, United States
CATEGORIES:OPEN MIC
ATTACH;FMTTYPE=image/jpeg:https://theenchantedforest.live/wp-content/uploads/2024/06/Screenshot-2024-06-24-at-8.26.23 PM.jpeg
ORGANIZER;CN="The Enchanted Forest & Music Hall":MAILTO:booking@theeenchantedforest.live
END:VEVENT
BEGIN:VEVENT
DTSTART;TZID=America/Kentucky/Louisville:20290117T190000
DTEND;TZID=America/Kentucky/Louisville:20290117T214500
DTSTAMP:20260423T044918
CREATED:20240625T003205Z
LAST-MODIFIED:20240625T003205Z
UID:10000863-1863370800-1863380700@theenchantedforest.live
SUMMARY:Music Industry Night - Open Jam
DESCRIPTION:Join us every Wednesday for the areas best open mic/open jam where musicians around the area meet up for jam together and make new friends and even form new bands.  We provide a complete backline drum kit\, bass amps and guitar amps.  Sign up happens around 6:30.  Performer take the stage from 7pm till 9:45pm.
URL:https://theenchantedforest.live/events/music-industry-night-open-jam/2029-01-17/
LOCATION:The Enchanted Forest & Music Hall\, 45 W. 1st Street\, New Albany\, IN\, 47150\, United States
CATEGORIES:OPEN MIC
ATTACH;FMTTYPE=image/jpeg:https://theenchantedforest.live/wp-content/uploads/2024/06/Screenshot-2024-06-24-at-8.26.23 PM.jpeg
ORGANIZER;CN="The Enchanted Forest & Music Hall":MAILTO:booking@theeenchantedforest.live
END:VEVENT
BEGIN:VEVENT
DTSTART;TZID=America/Kentucky/Louisville:20290124T190000
DTEND;TZID=America/Kentucky/Louisville:20290124T214500
DTSTAMP:20260423T044918
CREATED:20240625T003205Z
LAST-MODIFIED:20240625T003205Z
UID:10000864-1863975600-1863985500@theenchantedforest.live
SUMMARY:Music Industry Night - Open Jam
DESCRIPTION:Join us every Wednesday for the areas best open mic/open jam where musicians around the area meet up for jam together and make new friends and even form new bands.  We provide a complete backline drum kit\, bass amps and guitar amps.  Sign up happens around 6:30.  Performer take the stage from 7pm till 9:45pm.
URL:https://theenchantedforest.live/events/music-industry-night-open-jam/2029-01-24/
LOCATION:The Enchanted Forest & Music Hall\, 45 W. 1st Street\, New Albany\, IN\, 47150\, United States
CATEGORIES:OPEN MIC
ATTACH;FMTTYPE=image/jpeg:https://theenchantedforest.live/wp-content/uploads/2024/06/Screenshot-2024-06-24-at-8.26.23 PM.jpeg
ORGANIZER;CN="The Enchanted Forest & Music Hall":MAILTO:booking@theeenchantedforest.live
END:VEVENT
BEGIN:VEVENT
DTSTART;TZID=America/Kentucky/Louisville:20290131T190000
DTEND;TZID=America/Kentucky/Louisville:20290131T214500
DTSTAMP:20260423T044918
CREATED:20240625T003205Z
LAST-MODIFIED:20240625T003205Z
UID:10000865-1864580400-1864590300@theenchantedforest.live
SUMMARY:Music Industry Night - Open Jam
DESCRIPTION:Join us every Wednesday for the areas best open mic/open jam where musicians around the area meet up for jam together and make new friends and even form new bands.  We provide a complete backline drum kit\, bass amps and guitar amps.  Sign up happens around 6:30.  Performer take the stage from 7pm till 9:45pm.
URL:https://theenchantedforest.live/events/music-industry-night-open-jam/2029-01-31/
LOCATION:The Enchanted Forest & Music Hall\, 45 W. 1st Street\, New Albany\, IN\, 47150\, United States
CATEGORIES:OPEN MIC
ATTACH;FMTTYPE=image/jpeg:https://theenchantedforest.live/wp-content/uploads/2024/06/Screenshot-2024-06-24-at-8.26.23 PM.jpeg
ORGANIZER;CN="The Enchanted Forest & Music Hall":MAILTO:booking@theeenchantedforest.live
END:VEVENT
BEGIN:VEVENT
DTSTART;TZID=America/Kentucky/Louisville:20290207T190000
DTEND;TZID=America/Kentucky/Louisville:20290207T214500
DTSTAMP:20260423T044918
CREATED:20240625T003205Z
LAST-MODIFIED:20240625T003205Z
UID:10000866-1865185200-1865195100@theenchantedforest.live
SUMMARY:Music Industry Night - Open Jam
DESCRIPTION:Join us every Wednesday for the areas best open mic/open jam where musicians around the area meet up for jam together and make new friends and even form new bands.  We provide a complete backline drum kit\, bass amps and guitar amps.  Sign up happens around 6:30.  Performer take the stage from 7pm till 9:45pm.
URL:https://theenchantedforest.live/events/music-industry-night-open-jam/2029-02-07/
LOCATION:The Enchanted Forest & Music Hall\, 45 W. 1st Street\, New Albany\, IN\, 47150\, United States
CATEGORIES:OPEN MIC
ATTACH;FMTTYPE=image/jpeg:https://theenchantedforest.live/wp-content/uploads/2024/06/Screenshot-2024-06-24-at-8.26.23 PM.jpeg
ORGANIZER;CN="The Enchanted Forest & Music Hall":MAILTO:booking@theeenchantedforest.live
END:VEVENT
BEGIN:VEVENT
DTSTART;TZID=America/Kentucky/Louisville:20290214T190000
DTEND;TZID=America/Kentucky/Louisville:20290214T214500
DTSTAMP:20260423T044918
CREATED:20240625T003205Z
LAST-MODIFIED:20240625T003205Z
UID:10000867-1865790000-1865799900@theenchantedforest.live
SUMMARY:Music Industry Night - Open Jam
DESCRIPTION:Join us every Wednesday for the areas best open mic/open jam where musicians around the area meet up for jam together and make new friends and even form new bands.  We provide a complete backline drum kit\, bass amps and guitar amps.  Sign up happens around 6:30.  Performer take the stage from 7pm till 9:45pm.
URL:https://theenchantedforest.live/events/music-industry-night-open-jam/2029-02-14/
LOCATION:The Enchanted Forest & Music Hall\, 45 W. 1st Street\, New Albany\, IN\, 47150\, United States
CATEGORIES:OPEN MIC
ATTACH;FMTTYPE=image/jpeg:https://theenchantedforest.live/wp-content/uploads/2024/06/Screenshot-2024-06-24-at-8.26.23 PM.jpeg
ORGANIZER;CN="The Enchanted Forest & Music Hall":MAILTO:booking@theeenchantedforest.live
END:VEVENT
BEGIN:VEVENT
DTSTART;TZID=America/Kentucky/Louisville:20290221T190000
DTEND;TZID=America/Kentucky/Louisville:20290221T214500
DTSTAMP:20260423T044918
CREATED:20240625T003205Z
LAST-MODIFIED:20240625T003205Z
UID:10000868-1866394800-1866404700@theenchantedforest.live
SUMMARY:Music Industry Night - Open Jam
DESCRIPTION:Join us every Wednesday for the areas best open mic/open jam where musicians around the area meet up for jam together and make new friends and even form new bands.  We provide a complete backline drum kit\, bass amps and guitar amps.  Sign up happens around 6:30.  Performer take the stage from 7pm till 9:45pm.
URL:https://theenchantedforest.live/events/music-industry-night-open-jam/2029-02-21/
LOCATION:The Enchanted Forest & Music Hall\, 45 W. 1st Street\, New Albany\, IN\, 47150\, United States
CATEGORIES:OPEN MIC
ATTACH;FMTTYPE=image/jpeg:https://theenchantedforest.live/wp-content/uploads/2024/06/Screenshot-2024-06-24-at-8.26.23 PM.jpeg
ORGANIZER;CN="The Enchanted Forest & Music Hall":MAILTO:booking@theeenchantedforest.live
END:VEVENT
BEGIN:VEVENT
DTSTART;TZID=America/Kentucky/Louisville:20290228T190000
DTEND;TZID=America/Kentucky/Louisville:20290228T214500
DTSTAMP:20260423T044918
CREATED:20240625T003205Z
LAST-MODIFIED:20240625T003205Z
UID:10000869-1866999600-1867009500@theenchantedforest.live
SUMMARY:Music Industry Night - Open Jam
DESCRIPTION:Join us every Wednesday for the areas best open mic/open jam where musicians around the area meet up for jam together and make new friends and even form new bands.  We provide a complete backline drum kit\, bass amps and guitar amps.  Sign up happens around 6:30.  Performer take the stage from 7pm till 9:45pm.
URL:https://theenchantedforest.live/events/music-industry-night-open-jam/2029-02-28/
LOCATION:The Enchanted Forest & Music Hall\, 45 W. 1st Street\, New Albany\, IN\, 47150\, United States
CATEGORIES:OPEN MIC
ATTACH;FMTTYPE=image/jpeg:https://theenchantedforest.live/wp-content/uploads/2024/06/Screenshot-2024-06-24-at-8.26.23 PM.jpeg
ORGANIZER;CN="The Enchanted Forest & Music Hall":MAILTO:booking@theeenchantedforest.live
END:VEVENT
BEGIN:VEVENT
DTSTART;TZID=America/Kentucky/Louisville:20290307T190000
DTEND;TZID=America/Kentucky/Louisville:20290307T214500
DTSTAMP:20260423T044918
CREATED:20240625T003205Z
LAST-MODIFIED:20240625T003205Z
UID:10000870-1867604400-1867614300@theenchantedforest.live
SUMMARY:Music Industry Night - Open Jam
DESCRIPTION:Join us every Wednesday for the areas best open mic/open jam where musicians around the area meet up for jam together and make new friends and even form new bands.  We provide a complete backline drum kit\, bass amps and guitar amps.  Sign up happens around 6:30.  Performer take the stage from 7pm till 9:45pm.
URL:https://theenchantedforest.live/events/music-industry-night-open-jam/2029-03-07/
LOCATION:The Enchanted Forest & Music Hall\, 45 W. 1st Street\, New Albany\, IN\, 47150\, United States
CATEGORIES:OPEN MIC
ATTACH;FMTTYPE=image/jpeg:https://theenchantedforest.live/wp-content/uploads/2024/06/Screenshot-2024-06-24-at-8.26.23 PM.jpeg
ORGANIZER;CN="The Enchanted Forest & Music Hall":MAILTO:booking@theeenchantedforest.live
END:VEVENT
BEGIN:VEVENT
DTSTART;TZID=America/Kentucky/Louisville:20290314T190000
DTEND;TZID=America/Kentucky/Louisville:20290314T214500
DTSTAMP:20260423T044918
CREATED:20240625T003205Z
LAST-MODIFIED:20240625T003205Z
UID:10000871-1868209200-1868219100@theenchantedforest.live
SUMMARY:Music Industry Night - Open Jam
DESCRIPTION:Join us every Wednesday for the areas best open mic/open jam where musicians around the area meet up for jam together and make new friends and even form new bands.  We provide a complete backline drum kit\, bass amps and guitar amps.  Sign up happens around 6:30.  Performer take the stage from 7pm till 9:45pm.
URL:https://theenchantedforest.live/events/music-industry-night-open-jam/2029-03-14/
LOCATION:The Enchanted Forest & Music Hall\, 45 W. 1st Street\, New Albany\, IN\, 47150\, United States
CATEGORIES:OPEN MIC
ATTACH;FMTTYPE=image/jpeg:https://theenchantedforest.live/wp-content/uploads/2024/06/Screenshot-2024-06-24-at-8.26.23 PM.jpeg
ORGANIZER;CN="The Enchanted Forest & Music Hall":MAILTO:booking@theeenchantedforest.live
END:VEVENT
BEGIN:VEVENT
DTSTART;TZID=America/Kentucky/Louisville:20290321T190000
DTEND;TZID=America/Kentucky/Louisville:20290321T214500
DTSTAMP:20260423T044918
CREATED:20240625T003205Z
LAST-MODIFIED:20240625T003205Z
UID:10000872-1868814000-1868823900@theenchantedforest.live
SUMMARY:Music Industry Night - Open Jam
DESCRIPTION:Join us every Wednesday for the areas best open mic/open jam where musicians around the area meet up for jam together and make new friends and even form new bands.  We provide a complete backline drum kit\, bass amps and guitar amps.  Sign up happens around 6:30.  Performer take the stage from 7pm till 9:45pm.
URL:https://theenchantedforest.live/events/music-industry-night-open-jam/2029-03-21/
LOCATION:The Enchanted Forest & Music Hall\, 45 W. 1st Street\, New Albany\, IN\, 47150\, United States
CATEGORIES:OPEN MIC
ATTACH;FMTTYPE=image/jpeg:https://theenchantedforest.live/wp-content/uploads/2024/06/Screenshot-2024-06-24-at-8.26.23 PM.jpeg
ORGANIZER;CN="The Enchanted Forest & Music Hall":MAILTO:booking@theeenchantedforest.live
END:VEVENT
BEGIN:VEVENT
DTSTART;TZID=America/Kentucky/Louisville:20290328T190000
DTEND;TZID=America/Kentucky/Louisville:20290328T214500
DTSTAMP:20260423T044918
CREATED:20240625T003205Z
LAST-MODIFIED:20240625T003205Z
UID:10000873-1869418800-1869428700@theenchantedforest.live
SUMMARY:Music Industry Night - Open Jam
DESCRIPTION:Join us every Wednesday for the areas best open mic/open jam where musicians around the area meet up for jam together and make new friends and even form new bands.  We provide a complete backline drum kit\, bass amps and guitar amps.  Sign up happens around 6:30.  Performer take the stage from 7pm till 9:45pm.
URL:https://theenchantedforest.live/events/music-industry-night-open-jam/2029-03-28/
LOCATION:The Enchanted Forest & Music Hall\, 45 W. 1st Street\, New Albany\, IN\, 47150\, United States
CATEGORIES:OPEN MIC
ATTACH;FMTTYPE=image/jpeg:https://theenchantedforest.live/wp-content/uploads/2024/06/Screenshot-2024-06-24-at-8.26.23 PM.jpeg
ORGANIZER;CN="The Enchanted Forest & Music Hall":MAILTO:booking@theeenchantedforest.live
END:VEVENT
BEGIN:VEVENT
DTSTART;TZID=America/Kentucky/Louisville:20290404T190000
DTEND;TZID=America/Kentucky/Louisville:20290404T214500
DTSTAMP:20260423T044918
CREATED:20240625T003205Z
LAST-MODIFIED:20240625T003205Z
UID:10000874-1870023600-1870033500@theenchantedforest.live
SUMMARY:Music Industry Night - Open Jam
DESCRIPTION:Join us every Wednesday for the areas best open mic/open jam where musicians around the area meet up for jam together and make new friends and even form new bands.  We provide a complete backline drum kit\, bass amps and guitar amps.  Sign up happens around 6:30.  Performer take the stage from 7pm till 9:45pm.
URL:https://theenchantedforest.live/events/music-industry-night-open-jam/2029-04-04/
LOCATION:The Enchanted Forest & Music Hall\, 45 W. 1st Street\, New Albany\, IN\, 47150\, United States
CATEGORIES:OPEN MIC
ATTACH;FMTTYPE=image/jpeg:https://theenchantedforest.live/wp-content/uploads/2024/06/Screenshot-2024-06-24-at-8.26.23 PM.jpeg
ORGANIZER;CN="The Enchanted Forest & Music Hall":MAILTO:booking@theeenchantedforest.live
END:VEVENT
BEGIN:VEVENT
DTSTART;TZID=America/Kentucky/Louisville:20290411T190000
DTEND;TZID=America/Kentucky/Louisville:20290411T214500
DTSTAMP:20260423T044918
CREATED:20240625T003205Z
LAST-MODIFIED:20240625T003205Z
UID:10000875-1870628400-1870638300@theenchantedforest.live
SUMMARY:Music Industry Night - Open Jam
DESCRIPTION:Join us every Wednesday for the areas best open mic/open jam where musicians around the area meet up for jam together and make new friends and even form new bands.  We provide a complete backline drum kit\, bass amps and guitar amps.  Sign up happens around 6:30.  Performer take the stage from 7pm till 9:45pm.
URL:https://theenchantedforest.live/events/music-industry-night-open-jam/2029-04-11/
LOCATION:The Enchanted Forest & Music Hall\, 45 W. 1st Street\, New Albany\, IN\, 47150\, United States
CATEGORIES:OPEN MIC
ATTACH;FMTTYPE=image/jpeg:https://theenchantedforest.live/wp-content/uploads/2024/06/Screenshot-2024-06-24-at-8.26.23 PM.jpeg
ORGANIZER;CN="The Enchanted Forest & Music Hall":MAILTO:booking@theeenchantedforest.live
END:VEVENT
BEGIN:VEVENT
DTSTART;TZID=America/Kentucky/Louisville:20290418T190000
DTEND;TZID=America/Kentucky/Louisville:20290418T214500
DTSTAMP:20260423T044918
CREATED:20240625T003205Z
LAST-MODIFIED:20240625T003205Z
UID:10000876-1871233200-1871243100@theenchantedforest.live
SUMMARY:Music Industry Night - Open Jam
DESCRIPTION:Join us every Wednesday for the areas best open mic/open jam where musicians around the area meet up for jam together and make new friends and even form new bands.  We provide a complete backline drum kit\, bass amps and guitar amps.  Sign up happens around 6:30.  Performer take the stage from 7pm till 9:45pm.
URL:https://theenchantedforest.live/events/music-industry-night-open-jam/2029-04-18/
LOCATION:The Enchanted Forest & Music Hall\, 45 W. 1st Street\, New Albany\, IN\, 47150\, United States
CATEGORIES:OPEN MIC
ATTACH;FMTTYPE=image/jpeg:https://theenchantedforest.live/wp-content/uploads/2024/06/Screenshot-2024-06-24-at-8.26.23 PM.jpeg
ORGANIZER;CN="The Enchanted Forest & Music Hall":MAILTO:booking@theeenchantedforest.live
END:VEVENT
BEGIN:VEVENT
DTSTART;TZID=America/Kentucky/Louisville:20290425T190000
DTEND;TZID=America/Kentucky/Louisville:20290425T214500
DTSTAMP:20260423T044918
CREATED:20240625T003205Z
LAST-MODIFIED:20240625T003205Z
UID:10000877-1871838000-1871847900@theenchantedforest.live
SUMMARY:Music Industry Night - Open Jam
DESCRIPTION:Join us every Wednesday for the areas best open mic/open jam where musicians around the area meet up for jam together and make new friends and even form new bands.  We provide a complete backline drum kit\, bass amps and guitar amps.  Sign up happens around 6:30.  Performer take the stage from 7pm till 9:45pm.
URL:https://theenchantedforest.live/events/music-industry-night-open-jam/2029-04-25/
LOCATION:The Enchanted Forest & Music Hall\, 45 W. 1st Street\, New Albany\, IN\, 47150\, United States
CATEGORIES:OPEN MIC
ATTACH;FMTTYPE=image/jpeg:https://theenchantedforest.live/wp-content/uploads/2024/06/Screenshot-2024-06-24-at-8.26.23 PM.jpeg
ORGANIZER;CN="The Enchanted Forest & Music Hall":MAILTO:booking@theeenchantedforest.live
END:VEVENT
BEGIN:VEVENT
DTSTART;TZID=America/Kentucky/Louisville:20290502T190000
DTEND;TZID=America/Kentucky/Louisville:20290502T214500
DTSTAMP:20260423T044918
CREATED:20240625T003205Z
LAST-MODIFIED:20240625T003205Z
UID:10000878-1872442800-1872452700@theenchantedforest.live
SUMMARY:Music Industry Night - Open Jam
DESCRIPTION:Join us every Wednesday for the areas best open mic/open jam where musicians around the area meet up for jam together and make new friends and even form new bands.  We provide a complete backline drum kit\, bass amps and guitar amps.  Sign up happens around 6:30.  Performer take the stage from 7pm till 9:45pm.
URL:https://theenchantedforest.live/events/music-industry-night-open-jam/2029-05-02/
LOCATION:The Enchanted Forest & Music Hall\, 45 W. 1st Street\, New Albany\, IN\, 47150\, United States
CATEGORIES:OPEN MIC
ATTACH;FMTTYPE=image/jpeg:https://theenchantedforest.live/wp-content/uploads/2024/06/Screenshot-2024-06-24-at-8.26.23 PM.jpeg
ORGANIZER;CN="The Enchanted Forest & Music Hall":MAILTO:booking@theeenchantedforest.live
END:VEVENT
BEGIN:VEVENT
DTSTART;TZID=America/Kentucky/Louisville:20290509T190000
DTEND;TZID=America/Kentucky/Louisville:20290509T214500
DTSTAMP:20260423T044918
CREATED:20240625T003205Z
LAST-MODIFIED:20240625T003205Z
UID:10000879-1873047600-1873057500@theenchantedforest.live
SUMMARY:Music Industry Night - Open Jam
DESCRIPTION:Join us every Wednesday for the areas best open mic/open jam where musicians around the area meet up for jam together and make new friends and even form new bands.  We provide a complete backline drum kit\, bass amps and guitar amps.  Sign up happens around 6:30.  Performer take the stage from 7pm till 9:45pm.
URL:https://theenchantedforest.live/events/music-industry-night-open-jam/2029-05-09/
LOCATION:The Enchanted Forest & Music Hall\, 45 W. 1st Street\, New Albany\, IN\, 47150\, United States
CATEGORIES:OPEN MIC
ATTACH;FMTTYPE=image/jpeg:https://theenchantedforest.live/wp-content/uploads/2024/06/Screenshot-2024-06-24-at-8.26.23 PM.jpeg
ORGANIZER;CN="The Enchanted Forest & Music Hall":MAILTO:booking@theeenchantedforest.live
END:VEVENT
BEGIN:VEVENT
DTSTART;TZID=America/Kentucky/Louisville:20290516T190000
DTEND;TZID=America/Kentucky/Louisville:20290516T214500
DTSTAMP:20260423T044918
CREATED:20240625T003205Z
LAST-MODIFIED:20240625T003205Z
UID:10000880-1873652400-1873662300@theenchantedforest.live
SUMMARY:Music Industry Night - Open Jam
DESCRIPTION:Join us every Wednesday for the areas best open mic/open jam where musicians around the area meet up for jam together and make new friends and even form new bands.  We provide a complete backline drum kit\, bass amps and guitar amps.  Sign up happens around 6:30.  Performer take the stage from 7pm till 9:45pm.
URL:https://theenchantedforest.live/events/music-industry-night-open-jam/2029-05-16/
LOCATION:The Enchanted Forest & Music Hall\, 45 W. 1st Street\, New Albany\, IN\, 47150\, United States
CATEGORIES:OPEN MIC
ATTACH;FMTTYPE=image/jpeg:https://theenchantedforest.live/wp-content/uploads/2024/06/Screenshot-2024-06-24-at-8.26.23 PM.jpeg
ORGANIZER;CN="The Enchanted Forest & Music Hall":MAILTO:booking@theeenchantedforest.live
END:VEVENT
BEGIN:VEVENT
DTSTART;TZID=America/Kentucky/Louisville:20290523T190000
DTEND;TZID=America/Kentucky/Louisville:20290523T214500
DTSTAMP:20260423T044918
CREATED:20240625T003205Z
LAST-MODIFIED:20240625T003205Z
UID:10000881-1874257200-1874267100@theenchantedforest.live
SUMMARY:Music Industry Night - Open Jam
DESCRIPTION:Join us every Wednesday for the areas best open mic/open jam where musicians around the area meet up for jam together and make new friends and even form new bands.  We provide a complete backline drum kit\, bass amps and guitar amps.  Sign up happens around 6:30.  Performer take the stage from 7pm till 9:45pm.
URL:https://theenchantedforest.live/events/music-industry-night-open-jam/2029-05-23/
LOCATION:The Enchanted Forest & Music Hall\, 45 W. 1st Street\, New Albany\, IN\, 47150\, United States
CATEGORIES:OPEN MIC
ATTACH;FMTTYPE=image/jpeg:https://theenchantedforest.live/wp-content/uploads/2024/06/Screenshot-2024-06-24-at-8.26.23 PM.jpeg
ORGANIZER;CN="The Enchanted Forest & Music Hall":MAILTO:booking@theeenchantedforest.live
END:VEVENT
BEGIN:VEVENT
DTSTART;TZID=America/Kentucky/Louisville:20290530T190000
DTEND;TZID=America/Kentucky/Louisville:20290530T214500
DTSTAMP:20260423T044918
CREATED:20240625T003205Z
LAST-MODIFIED:20240625T003205Z
UID:10000882-1874862000-1874871900@theenchantedforest.live
SUMMARY:Music Industry Night - Open Jam
DESCRIPTION:Join us every Wednesday for the areas best open mic/open jam where musicians around the area meet up for jam together and make new friends and even form new bands.  We provide a complete backline drum kit\, bass amps and guitar amps.  Sign up happens around 6:30.  Performer take the stage from 7pm till 9:45pm.
URL:https://theenchantedforest.live/events/music-industry-night-open-jam/2029-05-30/
LOCATION:The Enchanted Forest & Music Hall\, 45 W. 1st Street\, New Albany\, IN\, 47150\, United States
CATEGORIES:OPEN MIC
ATTACH;FMTTYPE=image/jpeg:https://theenchantedforest.live/wp-content/uploads/2024/06/Screenshot-2024-06-24-at-8.26.23 PM.jpeg
ORGANIZER;CN="The Enchanted Forest & Music Hall":MAILTO:booking@theeenchantedforest.live
END:VEVENT
BEGIN:VEVENT
DTSTART;TZID=America/Kentucky/Louisville:20290606T190000
DTEND;TZID=America/Kentucky/Louisville:20290606T214500
DTSTAMP:20260423T044918
CREATED:20240625T003205Z
LAST-MODIFIED:20240625T003205Z
UID:10000883-1875466800-1875476700@theenchantedforest.live
SUMMARY:Music Industry Night - Open Jam
DESCRIPTION:Join us every Wednesday for the areas best open mic/open jam where musicians around the area meet up for jam together and make new friends and even form new bands.  We provide a complete backline drum kit\, bass amps and guitar amps.  Sign up happens around 6:30.  Performer take the stage from 7pm till 9:45pm.
URL:https://theenchantedforest.live/events/music-industry-night-open-jam/2029-06-06/
LOCATION:The Enchanted Forest & Music Hall\, 45 W. 1st Street\, New Albany\, IN\, 47150\, United States
CATEGORIES:OPEN MIC
ATTACH;FMTTYPE=image/jpeg:https://theenchantedforest.live/wp-content/uploads/2024/06/Screenshot-2024-06-24-at-8.26.23 PM.jpeg
ORGANIZER;CN="The Enchanted Forest & Music Hall":MAILTO:booking@theeenchantedforest.live
END:VEVENT
BEGIN:VEVENT
DTSTART;TZID=America/Kentucky/Louisville:20290613T190000
DTEND;TZID=America/Kentucky/Louisville:20290613T214500
DTSTAMP:20260423T044918
CREATED:20240625T003205Z
LAST-MODIFIED:20240625T003205Z
UID:10000884-1876071600-1876081500@theenchantedforest.live
SUMMARY:Music Industry Night - Open Jam
DESCRIPTION:Join us every Wednesday for the areas best open mic/open jam where musicians around the area meet up for jam together and make new friends and even form new bands.  We provide a complete backline drum kit\, bass amps and guitar amps.  Sign up happens around 6:30.  Performer take the stage from 7pm till 9:45pm.
URL:https://theenchantedforest.live/events/music-industry-night-open-jam/2029-06-13/
LOCATION:The Enchanted Forest & Music Hall\, 45 W. 1st Street\, New Albany\, IN\, 47150\, United States
CATEGORIES:OPEN MIC
ATTACH;FMTTYPE=image/jpeg:https://theenchantedforest.live/wp-content/uploads/2024/06/Screenshot-2024-06-24-at-8.26.23 PM.jpeg
ORGANIZER;CN="The Enchanted Forest & Music Hall":MAILTO:booking@theeenchantedforest.live
END:VEVENT
BEGIN:VEVENT
DTSTART;TZID=America/Kentucky/Louisville:20290620T190000
DTEND;TZID=America/Kentucky/Louisville:20290620T214500
DTSTAMP:20260423T044918
CREATED:20240625T003205Z
LAST-MODIFIED:20240625T003205Z
UID:10000885-1876676400-1876686300@theenchantedforest.live
SUMMARY:Music Industry Night - Open Jam
DESCRIPTION:Join us every Wednesday for the areas best open mic/open jam where musicians around the area meet up for jam together and make new friends and even form new bands.  We provide a complete backline drum kit\, bass amps and guitar amps.  Sign up happens around 6:30.  Performer take the stage from 7pm till 9:45pm.
URL:https://theenchantedforest.live/events/music-industry-night-open-jam/2029-06-20/
LOCATION:The Enchanted Forest & Music Hall\, 45 W. 1st Street\, New Albany\, IN\, 47150\, United States
CATEGORIES:OPEN MIC
ATTACH;FMTTYPE=image/jpeg:https://theenchantedforest.live/wp-content/uploads/2024/06/Screenshot-2024-06-24-at-8.26.23 PM.jpeg
ORGANIZER;CN="The Enchanted Forest & Music Hall":MAILTO:booking@theeenchantedforest.live
END:VEVENT
END:VCALENDAR